BEGIN:VCALENDAR
VERSION:2.0
PRODID:Spatie calendar-links
BEGIN:VEVENT
UID:6d57584d05bacfb6eea77237f763c3a4
SUMMARY:36th EURAPS Annual Meeting 2026
DTSTAMP;TZID=e:20260528T090000
DTSTART;TZID=e:20260528T090000
DTEND;TZID=e:20260530T170000
X-ALT-DESC;FMTTYPE=text/html:EURAPS & ERC Meeting\n\n\n\nhttps://www.mymedworld.ch/events/36th-euraps-annual-meeting-2026\n
LOCATION:Austria Trend Hotel Savoyen Vienna\nRennweg 16\, 1030\, Vienna\, Austria
END:VEVENT
END:VCALENDAR