BEGIN:VCALENDAR
VERSION:2.0
PRODID:Spatie calendar-links
BEGIN:VEVENT
UID:acd572e495638bd3fb58c2c500a88062
SUMMARY:Update Infektiologie für Hausärzte – Teil III
DTSTAMP;TZID=e:20231206T183000
DTSTART;TZID=e:20231206T183000
DTEND;TZID=e:20231206T203000
X-ALT-DESC;FMTTYPE=text/html:SYNLAB Suisse SA\n\n\n\nhttps://www.mymedworld.ch/events/update-infektiologie-fuer-hausaerzte-teil-iii\n
LOCATION:\n
END:VEVENT
END:VCALENDAR